BEGIN:VCALENDAR
VERSION:2.0
PRODID:-// - ECPv6.15.20//NONSGML v1.0//EN
CALSCALE:GREGORIAN
METHOD:PUBLISH
X-ORIGINAL-URL:https://quiltshopsofthecentralcoast.com
X-WR-CALDESC:Events for 
REFRESH-INTERVAL;VALUE=DURATION:PT1H
X-Robots-Tag:noindex
X-PUBLISHED-TTL:PT1H
BEGIN:VTIMEZONE
TZID:UTC
BEGIN:STANDARD
TZOFFSETFROM:+0000
TZOFFSETTO:+0000
TZNAME:UTC
DTSTART:20250101T000000
END:STANDARD
END:VTIMEZONE
BEGIN:VEVENT
DTSTART;TZID=UTC:20260501T100000
DTEND;TZID=UTC:20260501T170000
DTSTAMP:20260423T222218
CREATED:20250603T233053Z
LAST-MODIFIED:20250603T233055Z
UID:886-1777629600-1777654800@quiltshopsofthecentralcoast.com
SUMMARY:Premium Passports On Sale
DESCRIPTION:Purchase your 2026 Central Coast Quilt Shop Tour Premium Passport starting today at any participating shop! Premium passports can be purchased in person and over the phone\, as well as online in some instances. Purchase of the Premium Passport entitles the bearer to exciting free gifts\, including a surprise collectible gift from each shop visited plus a commemorative tote bag. Quantities are limited and sell out quickly; don’t miss out!
URL:https://quiltshopsofthecentralcoast.com/event/premium-passports-on-sale/
END:VEVENT
BEGIN:VEVENT
DTSTART;TZID=UTC:20260529T090000
DTEND;TZID=UTC:20260530T180000
DTSTAMP:20260423T222218
CREATED:20250603T233211Z
LAST-MODIFIED:20250603T233213Z
UID:888-1780045200-1780164000@quiltshopsofthecentralcoast.com
SUMMARY:2026 Central Coast Quilt Shop Tour
DESCRIPTION:
URL:https://quiltshopsofthecentralcoast.com/event/2026-central-coast-quilt-shop-tour/
END:VEVENT
BEGIN:VEVENT
DTSTART;TZID=UTC:20260531T100000
DTEND;TZID=UTC:20260531T160000
DTSTAMP:20260423T222218
CREATED:20250603T233426Z
LAST-MODIFIED:20250603T233428Z
UID:890-1780221600-1780243200@quiltshopsofthecentralcoast.com
SUMMARY:2026 Central Coast Quilt Shop Tour
DESCRIPTION:
URL:https://quiltshopsofthecentralcoast.com/event/2026-central-coast-quilt-shop-tour-2/
END:VEVENT
END:VCALENDAR