BEGIN:VCALENDAR
VERSION:2.0
PRODID:-// - ECPv6.15.20//NONSGML v1.0//EN
CALSCALE:GREGORIAN
METHOD:PUBLISH
X-ORIGINAL-URL:https://quiltshopsofthecentralcoast.com
X-WR-CALDESC:Events for 
REFRESH-INTERVAL;VALUE=DURATION:PT1H
X-Robots-Tag:noindex
X-PUBLISHED-TTL:PT1H
BEGIN:VTIMEZONE
TZID:UTC
BEGIN:STANDARD
TZOFFSETFROM:+0000
TZOFFSETTO:+0000
TZNAME:UTC
DTSTART:20180101T000000
END:STANDARD
END:VTIMEZONE
BEGIN:VEVENT
DTSTART;TZID=UTC:20250601T100000
DTEND;TZID=UTC:20250601T160000
DTSTAMP:20260423T223849
CREATED:20250228T234746Z
LAST-MODIFIED:20250228T234748Z
UID:850-1748772000-1748793600@quiltshopsofthecentralcoast.com
SUMMARY:Guild Hat Challenge Voting
DESCRIPTION:The Creation Station is sponsoring a Guild Hat Challenge this year! Be sure to stop in at The Creation Station in Buellton\, and cast your vote for your favorite\, handmade hat!
URL:https://quiltshopsofthecentralcoast.com/event/guild-hat-challenge-voting-2/
END:VEVENT
BEGIN:VEVENT
DTSTART;TZID=UTC:20250601T100000
DTEND;TZID=UTC:20250601T160000
DTSTAMP:20260423T223849
CREATED:20250228T225119Z
LAST-MODIFIED:20250228T225715Z
UID:846-1748772000-1748793600@quiltshopsofthecentralcoast.com
SUMMARY:2025 Central Coast Quilt Shop Tour
DESCRIPTION:It’s Hats Off to the Central Coast! Join us for the 2025 Shop Tour May 30-31\, and June 1\, 2025\, and show us your millinery marvels. Participants wearing hats will receive a bonus\, decorative pin at each shop they visit! Have fun making and embellishing your own hat\, embrace your favorite shop’s theme (see below)\, and get your quilt crew together to make coordinating headwear!
URL:https://quiltshopsofthecentralcoast.com/event/2025-central-coast-quilt-shop-tour-2/
END:VEVENT
BEGIN:VEVENT
DTSTART;TZID=UTC:20250530T090000
DTEND;TZID=UTC:20250531T180000
DTSTAMP:20260423T223849
CREATED:20250228T234632Z
LAST-MODIFIED:20250228T234635Z
UID:848-1748595600-1748714400@quiltshopsofthecentralcoast.com
SUMMARY:Guild Hat Challenge Voting
DESCRIPTION:The Creation Station is sponsoring a Guild Hat Challenge this year! Be sure to stop in at The Creation Station in Buellton\, and cast your vote for your favorite\, handmade hat!
URL:https://quiltshopsofthecentralcoast.com/event/guild-hat-challenge-voting/
END:VEVENT
BEGIN:VEVENT
DTSTART;TZID=UTC:20250530T090000
DTEND;TZID=UTC:20250531T180000
DTSTAMP:20260423T223849
CREATED:20250228T224955Z
LAST-MODIFIED:20250228T224957Z
UID:844-1748595600-1748714400@quiltshopsofthecentralcoast.com
SUMMARY:2025 Central Coast Quilt Shop Tour
DESCRIPTION:It’s Hats Off to the Central Coast! Join us for the 2025 Shop Tour May 30-31\, and June 1\, 2025\, and show us your millinery marvels. Participants wearing hats will receive a bonus\, decorative pin at each shop they visit! Have fun making and embellishing your own hat\, embrace your favorite shop’s theme (see below)\, and get your quilt crew together to make coordinating headwear!
URL:https://quiltshopsofthecentralcoast.com/event/2025-central-coast-quilt-shop-tour/
END:VEVENT
BEGIN:VEVENT
DTSTART;TZID=UTC:20240602T100000
DTEND;TZID=UTC:20240602T160000
DTSTAMP:20260423T223849
CREATED:20231204T194448Z
LAST-MODIFIED:20231204T194448Z
UID:810-1717322400-1717344000@quiltshopsofthecentralcoast.com
SUMMARY:2024 Central Coast Quilt Shop Tour
DESCRIPTION:
URL:https://quiltshopsofthecentralcoast.com/event/2024-central-coast-quilt-shop-tour-2/
END:VEVENT
BEGIN:VEVENT
DTSTART;TZID=UTC:20240531T090000
DTEND;TZID=UTC:20240601T180000
DTSTAMP:20260423T223849
CREATED:20231204T194310Z
LAST-MODIFIED:20231204T194310Z
UID:808-1717146000-1717264800@quiltshopsofthecentralcoast.com
SUMMARY:2024 Central Coast Quilt Shop Tour
DESCRIPTION:
URL:https://quiltshopsofthecentralcoast.com/event/2024-central-coast-quilt-shop-tour/
END:VEVENT
BEGIN:VEVENT
DTSTART;VALUE=DATE:20240501
DTEND;VALUE=DATE:20240502
DTSTAMP:20260423T223849
CREATED:20231204T194711Z
LAST-MODIFIED:20231204T194711Z
UID:812-1714521600-1714607999@quiltshopsofthecentralcoast.com
SUMMARY:2024 Central Coast Quilt Shop Tour Premium Passports On Sale
DESCRIPTION:Premium Passports go on sale at all participating stores May 1st for $15 and include an exclusive enamel pin from each shop visited plus a commemorative tote bag. Free passports are available from all participating shops on Shop Tour days.
URL:https://quiltshopsofthecentralcoast.com/event/2024-central-coast-quilt-shop-tour-premium-passports-on-sale/
END:VEVENT
BEGIN:VEVENT
DTSTART;TZID=UTC:20190602T100000
DTEND;TZID=UTC:20190602T160000
DTSTAMP:20260423T223849
CREATED:20190216T000315Z
LAST-MODIFIED:20190216T000315Z
UID:552-1559469600-1559491200@quiltshopsofthecentralcoast.com
SUMMARY:Central Coast Quilt Shop Tour
DESCRIPTION:
URL:https://quiltshopsofthecentralcoast.com/event/central-coast-quilt-shop-tour-3/
END:VEVENT
BEGIN:VEVENT
DTSTART;TZID=UTC:20190601T090000
DTEND;TZID=UTC:20190601T180000
DTSTAMP:20260423T223849
CREATED:20190216T000244Z
LAST-MODIFIED:20190216T000244Z
UID:550-1559379600-1559412000@quiltshopsofthecentralcoast.com
SUMMARY:Central Coast Quilt Shop Tour
DESCRIPTION:
URL:https://quiltshopsofthecentralcoast.com/event/central-coast-quilt-shop-tour-2/
END:VEVENT
BEGIN:VEVENT
DTSTART;TZID=UTC:20190531T090000
DTEND;TZID=UTC:20190531T180000
DTSTAMP:20260423T223849
CREATED:20190216T000200Z
LAST-MODIFIED:20190216T000200Z
UID:548-1559293200-1559325600@quiltshopsofthecentralcoast.com
SUMMARY:Central Coast Quilt Shop Tour
DESCRIPTION:
URL:https://quiltshopsofthecentralcoast.com/event/central-coast-quilt-shop-tour/
END:VEVENT
BEGIN:VEVENT
DTSTART;TZID=UTC:20190216T203000
DTEND;TZID=UTC:20190216T233000
DTSTAMP:20260423T223849
CREATED:20190216T001134Z
LAST-MODIFIED:20190216T001134Z
UID:556-1550349000-1550359800@quiltshopsofthecentralcoast.com
SUMMARY:superbuzzy: Sewing 101
DESCRIPTION:This is the one that gets you behind the wheel (the hand wheel\, that is)! Get started sewing by getting to know your machine. Learn about the anatomy of your machine\, why you shouldn’t be afraid of your bobbin\, machine do’s and don’ts\, basic maintenance\, tension tips\, presser feet\, needles\, and more! By the end of this class\, you’ll be ready to thread your machine fearlessly and start stitching.  During the class\, you will complete a custom pillowcase in the class to dress up your bed!
URL:https://quiltshopsofthecentralcoast.com/event/superbuzzy-sewing-101/
LOCATION:superbuzzy\, 1794 E. Main Street\, Ventura\, CA\, 93001\, United States
END:VEVENT
END:VCALENDAR